BEGIN:VCALENDAR
VERSION:2.0
PRODID:-//Gewerbeverein 9045x.de - ECPv6.15.20//NONSGML v1.0//EN
CALSCALE:GREGORIAN
METHOD:PUBLISH
X-WR-CALNAME:Gewerbeverein 9045x.de
X-ORIGINAL-URL:https://www.9045x.de
X-WR-CALDESC:Veranstaltungen für Gewerbeverein 9045x.de
REFRESH-INTERVAL;VALUE=DURATION:PT1H
X-Robots-Tag:noindex
X-PUBLISHED-TTL:PT1H
BEGIN:VTIMEZONE
TZID:Europe/Berlin
BEGIN:DAYLIGHT
TZOFFSETFROM:+0100
TZOFFSETTO:+0200
TZNAME:CEST
DTSTART:20250330T010000
END:DAYLIGHT
BEGIN:STANDARD
TZOFFSETFROM:+0200
TZOFFSETTO:+0100
TZNAME:CET
DTSTART:20251026T010000
END:STANDARD
BEGIN:DAYLIGHT
TZOFFSETFROM:+0100
TZOFFSETTO:+0200
TZNAME:CEST
DTSTART:20260329T010000
END:DAYLIGHT
BEGIN:STANDARD
TZOFFSETFROM:+0200
TZOFFSETTO:+0100
TZNAME:CET
DTSTART:20261025T010000
END:STANDARD
BEGIN:DAYLIGHT
TZOFFSETFROM:+0100
TZOFFSETTO:+0200
TZNAME:CEST
DTSTART:20270328T010000
END:DAYLIGHT
BEGIN:STANDARD
TZOFFSETFROM:+0200
TZOFFSETTO:+0100
TZNAME:CET
DTSTART:20271031T010000
END:STANDARD
BEGIN:DAYLIGHT
TZOFFSETFROM:+0100
TZOFFSETTO:+0200
TZNAME:CEST
DTSTART:20280326T010000
END:DAYLIGHT
BEGIN:STANDARD
TZOFFSETFROM:+0200
TZOFFSETTO:+0100
TZNAME:CET
DTSTART:20281029T010000
END:STANDARD
END:VTIMEZONE
BEGIN:VEVENT
DTSTART;TZID=Europe/Berlin:20261121T080000
DTEND;TZID=Europe/Berlin:20270107T170000
DTSTAMP:20260424T013737
CREATED:20260129T221706Z
LAST-MODIFIED:20260129T221706Z
UID:2203-1795248000-1799341200@www.9045x.de
SUMMARY:WEIHNACHTSBELEUCHTUNG 2026 IN HERPERSDORF
DESCRIPTION:Auch dieses Jahr wird Herpersdorf wieder vom 21.11.26 – 07.01.27 weihnachtlich leuchten. Danke nochmals an unsere Unterstützer und Sponsoren.\nDas Projekt „Ein Stern der Ihren Namen trägt“ wurde 2020/21 vom Gewerbeverein mit Unterstützung seiner Mitglieder mit 22 LED Sternen gestartet. Um weiteren Gewerbetreibenden/Privatpersonen die Möglichkeit zu geben sich an dieser Aktion zu beteiligen wurden 2021 nochmals 5 LED Sterne gekauft. Alle Sponsoren haben sich 2024 bereit erklärt für weitere 3 Jahre die Patenschaft zu übernehmen. Somit leuchten bis 2026 die LED Sterne und lassen den Ortskern von Herpersdorf in einem weihnachtlichen Glanz erstrahlen. \nEines muss allen ortsansässigen Bürgern aber klar kommuniziert werden. Online Plattformen\, anonyme Handelsketten usw. sorgen nicht dafür\, dass im Ortskern von Herpersdorf eine tolle Weihnachtsbeleuchtung für vorweihnachtliche Stimmung sorgt\, ebenso organisieren sie auch keinen stimmungsvollen Weihnachtsmarkt.\nUnsere ortsansässigen Mitgliedsbetriebe aus Einzelhandel\, Handwerk\, Dienstleister und Gastronomen\, gepaart mit ehrenamtlichen Helfern können und möchten dies noch leisten. \nDamit diese Lebendigkeit und Vielfalt auch so bleibt unser Appell:\nUnterstützen Sie\, speziell in der heutigen Zeit alle ortsansässigen Betriebe gemäß unserem Motto: KAUF DA WO DU ZUHAUSE BIST. \nMöchten Sie auch dazugehören\, so können Sie uns gerne unter info@9045X.de kontaktieren.
URL:https://www.9045x.de/termin/weihnachtsbeleuchtung-2026-in-herpersdorf/
ATTACH;FMTTYPE=image/jpeg:https://www.9045x.de/wp-content/uploads/2021/10/image235.jpg
END:VEVENT
BEGIN:VEVENT
DTSTART;TZID=Europe/Berlin:20261124T190000
DTEND;TZID=Europe/Berlin:20261124T210000
DTSTAMP:20260424T013737
CREATED:20260129T221336Z
LAST-MODIFIED:20260129T221336Z
UID:2199-1795546800-1795554000@www.9045x.de
SUMMARY:UNTERNEHMERSTAMMTISCH
DESCRIPTION:Für den Gedanken- und Erfahrungsaustausch findet alle sechs Wochen um 19.00 Uhr ein öffentlicher Unternehmerstammtisch statt. Bei diesem Stammtisch bietet sich auch für Nichtmitglieder die Gelegenheit sich aktuell über die Planungen und Neuigkeiten im Gewerbeverein zu informieren.\nSie führen selbstständig ein Fachgeschäft\, ein Unternehmen\, einen Handwerksbetrieb\, sind Gewerbetreibende/r oder Freiberufler/in? Dann sind Sie bei uns an der richtigen Adresse!\nWir freuen uns darauf\, unser Kollektiv mit Ihrem kreativen Kopf und Ihren geschickten Händen zu erweitern. Werden Sie Mitglied im Gewerbeverein 9045X Nürnberg e.V.!
URL:https://www.9045x.de/termin/unternehmerstammtisch-27/
LOCATION:Wird noch bekannt gegeben
CATEGORIES:Öffentlichkeitsarbeit,Vereinsaktivitäten
ATTACH;FMTTYPE=image/jpeg:https://www.9045x.de/wp-content/uploads/2021/10/image61.jpg
END:VEVENT
END:VCALENDAR