BEGIN:VCALENDAR
VERSION:2.0
PRODID:-//Gewerbeverein 9045x.de - ECPv6.15.20//NONSGML v1.0//EN
CALSCALE:GREGORIAN
METHOD:PUBLISH
X-WR-CALNAME:Gewerbeverein 9045x.de
X-ORIGINAL-URL:https://www.9045x.de
X-WR-CALDESC:Veranstaltungen für Gewerbeverein 9045x.de
REFRESH-INTERVAL;VALUE=DURATION:PT1H
X-Robots-Tag:noindex
X-PUBLISHED-TTL:PT1H
BEGIN:VTIMEZONE
TZID:Europe/Berlin
BEGIN:DAYLIGHT
TZOFFSETFROM:+0100
TZOFFSETTO:+0200
TZNAME:CEST
DTSTART:20230326T010000
END:DAYLIGHT
BEGIN:STANDARD
TZOFFSETFROM:+0200
TZOFFSETTO:+0100
TZNAME:CET
DTSTART:20231029T010000
END:STANDARD
BEGIN:DAYLIGHT
TZOFFSETFROM:+0100
TZOFFSETTO:+0200
TZNAME:CEST
DTSTART:20240331T010000
END:DAYLIGHT
BEGIN:STANDARD
TZOFFSETFROM:+0200
TZOFFSETTO:+0100
TZNAME:CET
DTSTART:20241027T010000
END:STANDARD
BEGIN:DAYLIGHT
TZOFFSETFROM:+0100
TZOFFSETTO:+0200
TZNAME:CEST
DTSTART:20250330T010000
END:DAYLIGHT
BEGIN:STANDARD
TZOFFSETFROM:+0200
TZOFFSETTO:+0100
TZNAME:CET
DTSTART:20251026T010000
END:STANDARD
END:VTIMEZONE
BEGIN:VEVENT
DTSTART;TZID=Europe/Berlin:20240607T160000
DTEND;TZID=Europe/Berlin:20240609T150000
DTSTAMP:20260425T181732
CREATED:20240219T183610Z
LAST-MODIFIED:20240623T114527Z
UID:1627-1717776000-1717945200@www.9045x.de
SUMMARY:X-DAYS
DESCRIPTION:NACHLESE X-DAYS\nSchee war’s wieder! \nAm Freitag eröffneten Rainer Nusselt\, SPD-Stadtratsmitglied Ahmed Nasser und CSU-Ortsvorsitzender Theo Deinlein unsere diesjährigen X-DAYS. Danach rockte DJ Gerald Kappler das Zelt. Ein weiteres Highlight war die Best-of-Band am Samstag. Beim 1. Sport-Talk am Sonntag mit Gästen vom 1. FC Nürnberg\, Nils Russow kaufmännischer Vorstand\, Michael Wiesinger Leiter Nachwuchsleistungszentrum\, Dieter Nüssing Scout und Club Legende. Vom SC Worzeldorf die Vorstandschaft Holger Engelhardt und Andreas Meier. Von der Stadt Nürnberg Andreas Krieglstein CSU – Stadtratsmitglied. Durch den Talk führte unser Mitglied Florian Wenzel. Es wurden interessante Themen angesprochen und diskutiert. Somit war dies für Alle wieder einmal ein gelungener\, kultureller Event. Musikalisch und kulinarisch war einiges geboten. \nDas Schafkopfturnier war gut besucht und unsere „Kleinen“ kamen wieder voll auf ihre Kosten. \nDer Gewerbeverein 9045X möchte sich bei allen Besuchern\, Sponsoren und ehrenamtlichen Helfern\, die zum Gelingen unserer vorerst letzten X-DAYS beigetragen haben\, recht herzlich bedanken. \nEine Ära geht zu Ende. In den Medien\, vor und nach den Musik-Acts – u.a. bei der Verabschiedung am Samstag durch die Best-of-Band wurde schon bekannt gegeben\, dass dies unsere letzten X-DAYS in dieser Form waren. Vor allem die fehlenden ehrenamtlichen Helfer stellen ein großes Problem dar. Nachdem das Fest aber so gut angenommen wurde\, uns viele Besucher daraufhin spontan ihre Hilfe zusagten\, wird der Gewerbeverein 9045X versuchen eine Alternative zu finden damit unsere X-DAYS „nicht sterben“. \nDas Gelände in der Barlachstraße wird uns leider nicht mehr zur Verfügung stehen. \nEs muss ein neuer Veranstaltungsort gefunden werden. Deswegen stehen wir schon mit dem Verwaltungsamt Süd wegen der Zurverfügungstellung eines neuen Areals in Verbindung. Mal sehen\, was sich machen lässt. Denn\, nachdem so viele Helfer\, u.a. auch der SC Worzeldorf\, ihr Versprechen eingelöst haben\, uns beim Auf-/ und Abbau tatkräftig unterstützten und auch weiterhin für das nächste Sommerfest ihre Hilfe zusagten\, könnten wir es gemeinsam stemmen. \nAlle Mitglieder und Helfer engagieren sich unentgeltlich und ehrenamtlich und der Gewerbeverein 9045X trägt den finanziellen Ausgleich zwischen Kosten und Einnahmen. Das war‘s uns wert. \nMit diesem Event bedankten sich die Mitglieder des Gewerbevereins 9045X bei ihren Kunden für die Treue und den „Einkauf vor Ort“. Unsere ortsansässigen Einzelhandels-\, Handwerks- und Dienstleistungsbetriebe bieten immer noch etwas mehr\, als der anonyme Online Handel. \nDie Einnahmen vom Karussell werden – wie immer – an ortsansässige soziale Einrichtungen gespendet. \nBilder folgen
URL:https://www.9045x.de/termin/x-days-2/
LOCATION:Festplatz\, Barlachstr. 13\, Nürnberg\, 90455
CATEGORIES:Öffentlichkeitsarbeit,Vereinsaktivitäten
ATTACH;FMTTYPE=image/jpeg:https://www.9045x.de/wp-content/uploads/2022/04/9045X_Logo_xDays_klein-e1715101993176.jpg
END:VEVENT
END:VCALENDAR